BEGIN:VCALENDAR
VERSION:2.0
PRODID:-//Kräutergarten Klostermühle - ECPv5.14.1//NONSGML v1.0//EN
CALSCALE:GREGORIAN
METHOD:PUBLISH
X-WR-CALNAME:Kräutergarten Klostermühle
X-ORIGINAL-URL:https://kraeutergarten-klostermuehle.de
X-WR-CALDESC:Veranstaltungen für Kräutergarten Klostermühle
BEGIN:VTIMEZONE
TZID:Europe/Berlin
BEGIN:DAYLIGHT
TZOFFSETFROM:+0100
TZOFFSETTO:+0200
TZNAME:CEST
DTSTART:20190331T010000
END:DAYLIGHT
BEGIN:STANDARD
TZOFFSETFROM:+0200
TZOFFSETTO:+0100
TZNAME:CET
DTSTART:20191027T010000
END:STANDARD
END:VTIMEZONE
BEGIN:VEVENT
DTSTART;TZID=Europe/Berlin:20190101T190000
DTEND;TZID=Europe/Berlin:20190331T220000
DTSTAMP:20260423T234707
CREATED:20181105T131413Z
LAST-MODIFIED:20190117T102409Z
UID:2168-1546369200-1554069600@kraeutergarten-klostermuehle.de
SUMMARY:Meditation-Transformation-Neurogenese 1. Quartal 2019
DESCRIPTION:Meditation-Transformation-Neurogenese\nSeminar – Kurs 1. Quartal 2019\n\nwöchentlich Mittwochs – Uhrzeit: 19.00 – 22.00 Uhr\nSeminarleitung: Jürgen (J.) Jahnke alias Johannes\nDu bist Schöpfer Deiner Welt und sei wirklich ein bewusster Schöpfer Deiner Realität.\nVerändere Dein Leben – erschaffe (D)eine Grenzenlose Welt und fühle die „wirkliche Freiheit“.\nMeditation ist nicht nur Ent-Spannung. Die tiefgehenden Meditationen führen auch zum erkennen Deines „Universellen Selbst“ und dient der Kultivierung Deines Gehirns bzw. Deines Bewusstseins.\nEinfach gesagt – Du erschaffst Dir eine neue\, außergewöhnliche Persönlichkeit.\nErlebe es selbst\, sei selbst dabei und erfahre eine bewegende Ent-Spannung in einer geführten Meditation\, eine wirkliche Transformation und Neurogenese.\nThemen des Seminar-Kurses: Meditation\, Körper-Geist-Transformation\, Neuroplastizität/Neurogenese\, Wissen\, Welt der Zahlen und die Heilige Geometrie\, Luzide Träume\, Quanten-/ oder Morphogenetisches Feld\, Geniales Körper-Geist-System\, die Wiederholungsschleifen der Persönlichkeit\, das Unbekannte bekannt machen\, Heil(ung)strom\, uvm…….\nWas ist mitzubringen: Begeisterung und Freude sich/sein selbst zu ent-decken.\n(max. 16 Teinehmer)\nGebühren: 15\,-Euro pro Teilnehmer und Veranstaltung\nKontakt und Anmeldung ==> https://www.johannes-meditationen.com/\n\nCopyright der Bilder: \n© adimas  Fotolia 48899381 – Active nerve cells / © agsandrew Fotolia 73954184 – Evolving Reason\n© JenkoAtaman Fotolia 42158128 -beautiful girl enjoying the summer sun / © Clipdealer – Inside the brain. Concep …ID: A:6532637 \n          \n\n  \n  \n  \n  \n  \n  \n  \n  \n 
URL:https://kraeutergarten-klostermuehle.de/event/meditation-transformation-neurogenese-7-14-21-28-11-2018/
LOCATION:Kräutergarten Klostermühle\, Klosterstraße 171\, Edenkoben\, Rheinland-Pfalz\, 67480\, Deutschland
CATEGORIES:Events Referenten
ATTACH;FMTTYPE=image/jpeg:https://kraeutergarten-klostermuehle.de/wp-content/uploads/2018/11/Fotolia_73954184_S.jpg
END:VEVENT
BEGIN:VEVENT
DTSTART;TZID=Europe/Berlin:20190312T190000
DTEND;TZID=Europe/Berlin:20190312T203000
DTSTAMP:20260423T234707
CREATED:20190117T143418Z
LAST-MODIFIED:20190117T144840Z
UID:2265-1552417200-1552422600@kraeutergarten-klostermuehle.de
SUMMARY:„Ernährung als Medizin“ 12. März 2019
DESCRIPTION:„Ernährung als Medizin“ 19-20.30 Uhr\n\nUnsere Gesundheit wird durch eine Vielzahl von Einflussfaktoren beeinflusst. Neben ausreichend Bewegung\, Schlaf und Entspannung sowie einem guten sozialen und beruflichen Umfeld\, ist für die persönliche Gesundheit eine ausgewogene natürliche Ernährung elementar wichtig!\nBereits um 400 v. Chr. prägte Hippokrates von Kos den Leitspruch „Eure Nahrungsmittel sollen Eure Heilmittel und Eure Heilmittel sollen Eure Nahrungsmittel sein!“. Ideale Nahrungsmittel waren für ihn „Lebensmittel“\, d. h. „Mittel zum Leben“.\nHeute entstehen die meisten unserer chronischen Zivilisationskrankheiten durch einen unnatürlichen Lebens- und Ernährungsstil. Die Ernährung nimmt dabei eine zentrale Rolle ein. Der Vortrag beleuchtet\, wie unsere tägliche Ernährung genussvoll zum Anti-Aging\, zur Prävention und zur Behandlung von Erkrankungen entscheidend beitragen kann.\nTeilnahmegebühr: 8\,50 € \nNaturheilpraxis Nessel\nNaturheilkunde und Ernährungstherapie \nManuela M. Nessel\nHeilpraktikerin \nHauptstraße 93-95\nD-67433 Neustadt an der Weinstraße\nTel.: + 49 (0) 63 21 – 18 777 22\nFax: + 49 (0) 63 21 – 18 777 24\ninfo@naturheilpraxis-nessel.de \nWeitere Informationen und Anmeldung ==> www.naturheilpraxis-nessel.de
URL:https://kraeutergarten-klostermuehle.de/event/vortrag-vitamin-d-gesund-mit-dem-sonnenhormon-07-februar-2019-2-2/
LOCATION:Kräutergarten Klostermühle\, Klosterstraße 171\, Edenkoben\, Rheinland-Pfalz\, 67480\, Deutschland
CATEGORIES:Events Referenten
ATTACH;FMTTYPE=image/jpeg:https://kraeutergarten-klostermuehle.de/wp-content/uploads/2019/01/Gemüsefoto-v.-Fr.-Nessel.jpg
END:VEVENT
END:VCALENDAR