BEGIN:VCALENDAR
VERSION:2.0
PRODID:-//Kräutergarten Klostermühle - ECPv5.14.1//NONSGML v1.0//EN
CALSCALE:GREGORIAN
METHOD:PUBLISH
X-WR-CALNAME:Kräutergarten Klostermühle
X-ORIGINAL-URL:https://kraeutergarten-klostermuehle.de
X-WR-CALDESC:Veranstaltungen für Kräutergarten Klostermühle
BEGIN:VTIMEZONE
TZID:Europe/Berlin
BEGIN:DAYLIGHT
TZOFFSETFROM:+0100
TZOFFSETTO:+0200
TZNAME:CEST
DTSTART:20190331T010000
END:DAYLIGHT
BEGIN:STANDARD
TZOFFSETFROM:+0200
TZOFFSETTO:+0100
TZNAME:CET
DTSTART:20191027T010000
END:STANDARD
END:VTIMEZONE
BEGIN:VEVENT
DTSTART;TZID=Europe/Berlin:20190221T190000
DTEND;TZID=Europe/Berlin:20190221T203000
DTSTAMP:20260420T144430
CREATED:20190117T143418Z
LAST-MODIFIED:20190117T144130Z
UID:2262-1550775600-1550781000@kraeutergarten-klostermuehle.de
SUMMARY:"Gesundheit beginnt im Darm" 21. Februar 2019
DESCRIPTION:„Gesundheit beginnt im Darm“– 19:00 – 20:30 Uhr\n„Gesundheit beginnt im Darm“ – diese Erkenntnis ist so alt wie die Medizin selbst. Unser Verdauungstrakt mit seiner Darmflora und seinem höchstausgebildeten Immunsystem ist für unsere Gesundheit von zentraler Bedeutung. Er vollbringt täglich eine enorme Stoffwechselleistung\, um unseren gesamten Organismus mit lebensnotwendigen Vitalstoffen zu versorgen. Darüber hinaus ist er mit einer großen Menge an Fremdstoffen und Krankheitserregern konfrontiert\, die es abzuwehren gilt.\nErfahren Sie in diesem Vortrag\, welchen Einfluss der Darm\, die Darmflora und die Ernährung auf Ihre Gesundheit nehmen und was Sie selbst zur Pflege und Gesunderhaltung dieses wichtigen zentralen Organsystems tun können.\n\nTeilnahmegebühr: 8\,50 € \nNaturheilpraxis Nessel\nNaturheilkunde und Ernährungstherapie \nManuela M. Nessel\nHeilpraktikerin \nHauptstraße 93-95\nD-67433 Neustadt an der Weinstraße\nTel.: + 49 (0) 63 21 – 18 777 22\nFax: + 49 (0) 63 21 – 18 777 24\ninfo@naturheilpraxis-nessel.de \nWeitere Informationen und Anmeldung ==> www.naturheilpraxis-nessel.de
URL:https://kraeutergarten-klostermuehle.de/event/vortrag-vitamin-d-gesund-mit-dem-sonnenhormon-07-februar-2019-2/
LOCATION:Kräutergarten Klostermühle\, Klosterstraße 171\, Edenkoben\, Rheinland-Pfalz\, 67480\, Deutschland
CATEGORIES:Events Referenten
ATTACH;FMTTYPE=image/jpeg:https://kraeutergarten-klostermuehle.de/wp-content/uploads/2019/01/Gesundheit-Darm-Foto-v.-Frau-Nessel.jpg
END:VEVENT
END:VCALENDAR