BEGIN:VCALENDAR
VERSION:2.0
PRODID:-//Kräutergarten Klostermühle - ECPv5.14.1//NONSGML v1.0//EN
CALSCALE:GREGORIAN
METHOD:PUBLISH
X-WR-CALNAME:Kräutergarten Klostermühle
X-ORIGINAL-URL:https://kraeutergarten-klostermuehle.de
X-WR-CALDESC:Veranstaltungen für Kräutergarten Klostermühle
BEGIN:VTIMEZONE
TZID:Europe/Berlin
BEGIN:DAYLIGHT
TZOFFSETFROM:+0100
TZOFFSETTO:+0200
TZNAME:CEST
DTSTART:20180325T010000
END:DAYLIGHT
BEGIN:STANDARD
TZOFFSETFROM:+0200
TZOFFSETTO:+0100
TZNAME:CET
DTSTART:20181028T010000
END:STANDARD
END:VTIMEZONE
BEGIN:VEVENT
DTSTART;TZID=Europe/Berlin:20180828T190000
DTEND;TZID=Europe/Berlin:20180828T203000
DTSTAMP:20260421T204853
CREATED:20180809T200209Z
LAST-MODIFIED:20180809T200209Z
UID:2038-1535482800-1535488200@kraeutergarten-klostermuehle.de
SUMMARY:VORTRAG: Stress und Achtsamkeit – Besserer Umgang mit Belastungen
DESCRIPTION:Für einen guten Umgang mit Stress und Belastung \n\nWir alle sind gestresst und reden davon. – Was ist aber Stress genau?\nDie Stress-Reaktion. – Wie läuft Stress ab? – Was passiert im Körper?\nDauerhafter\, chronischer Stress. – Wie uns Stress krank macht!\nGereizt sein\, unkonzentriert. – Wie Stress unser Verhalten beeinflusst!\nSchlechte Entscheidungen treffen. – Wie Stress auf Entscheidungen wirkt!\nWie entsteht Stress? – Wie können wir gut damit umgehen?\nWas Achtsamkeit ist und wie hilft es bei Stress?\n\nDer Vortrag führt ein in die Stress-Thematik und soll zu einem besseren Verständnis und dann natürlich auch zu einem guten Umgang mit Stress beitragen. Achtsamkeit ist dabei eine Schlüssel-Kompetenz\, die jeder erlernen und trainieren kann. \nAm Ende des Vortrages erhalten Sie auch ein Überblick über Inhalt\, Aufbau und Wirkungsweise eines MBSR-Kurses (Achtsamkeits-Training). \n  \nWeitere Informationen und Anmeldung: \nhttps://mbsr-suedpfalz.de/mbsr-kurs-stress-achtsamkeit
URL:https://kraeutergarten-klostermuehle.de/event/vortrag-stress-und-achtsamkeit-besserer-umgang-mit-belastungen/
CATEGORIES:Events Referenten
ATTACH;FMTTYPE=image/jpeg:https://kraeutergarten-klostermuehle.de/wp-content/uploads/2018/08/Alle_Reden_von_Stress.jpg
END:VEVENT
END:VCALENDAR