BEGIN:VCALENDAR
VERSION:2.0
PRODID:-//Kräutergarten Klostermühle - ECPv5.14.1//NONSGML v1.0//EN
CALSCALE:GREGORIAN
METHOD:PUBLISH
X-WR-CALNAME:Kräutergarten Klostermühle
X-ORIGINAL-URL:https://kraeutergarten-klostermuehle.de
X-WR-CALDESC:Veranstaltungen für Kräutergarten Klostermühle
BEGIN:VTIMEZONE
TZID:Europe/Berlin
BEGIN:DAYLIGHT
TZOFFSETFROM:+0100
TZOFFSETTO:+0200
TZNAME:CEST
DTSTART:20190331T010000
END:DAYLIGHT
BEGIN:STANDARD
TZOFFSETFROM:+0200
TZOFFSETTO:+0100
TZNAME:CET
DTSTART:20191027T010000
END:STANDARD
END:VTIMEZONE
BEGIN:VEVENT
DTSTART;TZID=Europe/Berlin:20190323T093000
DTEND;TZID=Europe/Berlin:20190323T170000
DTSTAMP:20260420T112513
CREATED:20180905T134043Z
LAST-MODIFIED:20190315T092439Z
UID:2324-1553333400-1553360400@kraeutergarten-klostermuehle.de
SUMMARY:Tausche Frust gegen Erkenntnis am  23. März 2019
DESCRIPTION:Die Sichtweise den anderen einfacher verstehen ?\n Weniger nervige Diskussionen und Konflikte in Deiner Partnerschaft ?\nIn der traumhaften Umgebung vom Kräutergarten Klostermühle gewinnst Du spannende und außergewöhnliche Einblicke in Deine eigene Persönlichkeit und die Deiner Mitmenschen!\n Du entdeckst ungeahnte Potenziale und erkennst künftig die typischen „Fallen“ – sooo hilfreichen wertvoll für harmonische und entspannte berufliche und private Beziehungen Anmeldungen unter:\nwww.enneagramm-schule.de/veranstaltungen/
URL:https://kraeutergarten-klostermuehle.de/event/persoenlichkeitsentwicklung-4-0-am-23-februar-2019-2/
LOCATION:Kräutergarten Klostermühle\, Klosterstraße 171\, Edenkoben\, Rheinland-Pfalz\, 67480\, Deutschland
CATEGORIES:Events Referenten
ATTACH;FMTTYPE=image/jpeg:https://kraeutergarten-klostermuehle.de/wp-content/uploads/2018/09/2019-03_Tausche-Frust-gegen-Erkenntnis.jpg
END:VEVENT
END:VCALENDAR