BEGIN:VCALENDAR
VERSION:2.0
PRODID:-//Kräutergarten Klostermühle - ECPv5.14.1//NONSGML v1.0//EN
CALSCALE:GREGORIAN
METHOD:PUBLISH
X-WR-CALNAME:Kräutergarten Klostermühle
X-ORIGINAL-URL:https://kraeutergarten-klostermuehle.de
X-WR-CALDESC:Veranstaltungen für Kräutergarten Klostermühle
BEGIN:VTIMEZONE
TZID:Europe/Berlin
BEGIN:DAYLIGHT
TZOFFSETFROM:+0100
TZOFFSETTO:+0200
TZNAME:CEST
DTSTART:20180325T010000
END:DAYLIGHT
BEGIN:STANDARD
TZOFFSETFROM:+0200
TZOFFSETTO:+0100
TZNAME:CET
DTSTART:20181028T010000
END:STANDARD
END:VTIMEZONE
BEGIN:VEVENT
DTSTART;TZID=Europe/Berlin:20180505T100000
DTEND;TZID=Europe/Berlin:20180505T170000
DTSTAMP:20260422T083359
CREATED:20180319T154418Z
LAST-MODIFIED:20180502T192014Z
UID:1618-1525514400-1525539600@kraeutergarten-klostermuehle.de
SUMMARY:Malkurs 05.05.2018
DESCRIPTION:Malkurs 05.05. 2018\n  \nIm Zauber des erwachenden Grüns   \nRiechen\, Schmecken und Malen im Kräutergarten Klostermu?hle \n  \nEine kreative Reise ins Land der Pflanzen\, Aromen\, Legenden und Mythen. In diesem Kurs nehmen wir  Pflanzen und ihre Farbe\, ihren Geruch und ihr Wesen als Anlass\, eigene sinnliche Erfahrungen mit Farben und Formen in Bildern festzuhalten. \nWeitere Informationen zur Anmeldung hier: Kräuterkunst 5.5.18 \n  \n       \n     
URL:https://kraeutergarten-klostermuehle.de/event/malkurs-05-05-2018/
LOCATION:Kräutergarten Klostermühle\, Klosterstraße 171\, Edenkoben\, Rheinland-Pfalz\, 67480\, Deutschland
CATEGORIES:Events Referenten
ATTACH;FMTTYPE=image/jpeg:https://kraeutergarten-klostermuehle.de/wp-content/uploads/2018/03/Foto-Malkurs-05-05-2018.jpg
END:VEVENT
END:VCALENDAR