BEGIN:VCALENDAR
VERSION:2.0
PRODID:-//Kräutergarten Klostermühle - ECPv5.14.1//NONSGML v1.0//EN
CALSCALE:GREGORIAN
METHOD:PUBLISH
X-WR-CALNAME:Kräutergarten Klostermühle
X-ORIGINAL-URL:https://kraeutergarten-klostermuehle.de
X-WR-CALDESC:Veranstaltungen für Kräutergarten Klostermühle
BEGIN:VTIMEZONE
TZID:Europe/Berlin
BEGIN:DAYLIGHT
TZOFFSETFROM:+0100
TZOFFSETTO:+0200
TZNAME:CEST
DTSTART:20180325T010000
END:DAYLIGHT
BEGIN:STANDARD
TZOFFSETFROM:+0200
TZOFFSETTO:+0100
TZNAME:CET
DTSTART:20181028T010000
END:STANDARD
END:VTIMEZONE
BEGIN:VEVENT
DTSTART;TZID=Europe/Berlin:20181003T100000
DTEND;TZID=Europe/Berlin:20181003T170000
DTSTAMP:20260421T102716
CREATED:20180627T074141Z
LAST-MODIFIED:20180627T074236Z
UID:1625-1538560800-1538586000@kraeutergarten-klostermuehle.de
SUMMARY:Malkurs 03.10.2018
DESCRIPTION:Malkurs\nDen Herbst mit Farben einfangen\nRiechen\, Schmecken und Malen im Kräutergarten Klostermu?hle \nDen  Herbst mit Farben einfangen\nDer Sommer verneigt sich\, die Abschiedsfarben glühen. Ein Zauber verbirgt sich im Rausch der warmen Farben. In diesem Kurs laden wir sie ein\, diesen Augenblick mit Pinsel\, Stift und Farben im Kräutergarten einzufangen. \nWeitere Informationen und Anmeldung ==>  hier. \n  \n 
URL:https://kraeutergarten-klostermuehle.de/event/malkurs-03-10-2018/
LOCATION:Kräutergarten Klostermühle\, Klosterstraße 171\, Edenkoben\, Rheinland-Pfalz\, 67480\, Deutschland
CATEGORIES:Events Referenten
ATTACH;FMTTYPE=image/jpeg:https://kraeutergarten-klostermuehle.de/wp-content/uploads/2018/03/Malkurs-Herbst-18-Foto-unten.jpg
END:VEVENT
END:VCALENDAR