BEGIN:VCALENDAR
VERSION:2.0
PRODID:-//Kräutergarten Klostermühle - ECPv5.14.1//NONSGML v1.0//EN
CALSCALE:GREGORIAN
METHOD:PUBLISH
X-WR-CALNAME:Kräutergarten Klostermühle
X-ORIGINAL-URL:https://kraeutergarten-klostermuehle.de
X-WR-CALDESC:Veranstaltungen für Kräutergarten Klostermühle
BEGIN:VTIMEZONE
TZID:Europe/Berlin
BEGIN:DAYLIGHT
TZOFFSETFROM:+0100
TZOFFSETTO:+0200
TZNAME:CEST
DTSTART:20180325T010000
END:DAYLIGHT
BEGIN:STANDARD
TZOFFSETFROM:+0200
TZOFFSETTO:+0100
TZNAME:CET
DTSTART:20181028T010000
END:STANDARD
END:VTIMEZONE
BEGIN:VEVENT
DTSTART;VALUE=DATE:20180630
DTEND;VALUE=DATE:20180703
DTSTAMP:20260422T050832
CREATED:20171015T093917Z
LAST-MODIFIED:20180628T090757Z
UID:1243-1530345600-1530518399@kraeutergarten-klostermuehle.de
SUMMARY:Lavendellust 30.06.-01.07.2018
DESCRIPTION:Provenzalisches Flair erwartet die Besucher bei der „Lavendellust im Kräutergarten Klostermühle“ – unserem Fest rund um den Lavendel. \nNeben Gartenführungen über das 6.000 qm große Gelände erwarten Sie kulinarische Köstlichkeiten von „Gaumenfreunde“\, Edenkoben. Selbstverständlich auch mit Zutaten aus dem eigenen Gemüse- und Kräutergarten und Weinen aus der Region. \nVorführung der Lavendeldestillation\, Gewinnung von ätherischem Lavendelöl und Lavendelwasser in einer gläsernen Vorführdestille. Musik mit französischen Chansons. Ein breit gefächertes Angebot von Kunsthandwerk und Naturprodukten an etwa 30 Ständen. ==> Ausstellerliste bitte hier anklicken => 2018.06.18_Programm-Flyer- Innenseite 30.06._01.07.2018 \n\nNähere Informationen: \nÖffnungszeiten: \n30.06.2018 von 10.00-19.00 Uhr \n01.07.2018 von 11.00-18.00 Uhr \nEintritt: 5\,00 Euro \n\nWir freuen uns auf Ihren Besuch.\n(Hunde müssen leider draußen bleiben) \nKostenloser Shuttleservice an den Sonntagen: 24. Juni + 01. Juli 2018 \nDer Fahrplan ist hier hinterlegt bitte anklicken: 2018-06-05 Palatina Bus_Shuttle Fahrplan \n \n\n 
URL:https://kraeutergarten-klostermuehle.de/event/lavendellust-30-06-01-07-2018/
LOCATION:Kräutergarten Klostermühle\, Klosterstraße 171\, Edenkoben\, Rheinland-Pfalz\, 67480\, Deutschland
CATEGORIES:eigene Events
ATTACH;FMTTYPE=image/jpeg:https://kraeutergarten-klostermuehle.de/wp-content/uploads/2017/10/Kraeutergarten-Destille.jpg
END:VEVENT
END:VCALENDAR