BEGIN:VCALENDAR
VERSION:2.0
PRODID:-//Kräutergarten Klostermühle - ECPv5.14.1//NONSGML v1.0//EN
CALSCALE:GREGORIAN
METHOD:PUBLISH
X-WR-CALNAME:Kräutergarten Klostermühle
X-ORIGINAL-URL:https://kraeutergarten-klostermuehle.de
X-WR-CALDESC:Veranstaltungen für Kräutergarten Klostermühle
BEGIN:VTIMEZONE
TZID:Europe/Berlin
BEGIN:DAYLIGHT
TZOFFSETFROM:+0100
TZOFFSETTO:+0200
TZNAME:CEST
DTSTART:20180325T010000
END:DAYLIGHT
BEGIN:STANDARD
TZOFFSETFROM:+0200
TZOFFSETTO:+0100
TZNAME:CET
DTSTART:20181028T010000
END:STANDARD
END:VTIMEZONE
BEGIN:VEVENT
DTSTART;VALUE=DATE:20180623
DTEND;VALUE=DATE:20180626
DTSTAMP:20260422T065250
CREATED:20180228T111822Z
LAST-MODIFIED:20180620T131412Z
UID:1532-1529740800-1529913599@kraeutergarten-klostermuehle.de
SUMMARY:Lavendellust 23.-24.06.2018
DESCRIPTION:Provenzalisches Flair erwartet die Besucher bei der „Lavendellust im Kräutergarten Klostermühle“ – unserem Fest rund um den Lavendel. \nNeben Gartenführungen über das 6.000 qm große Gelände erwarten Sie kulinarische Köstlichkeiten von „Gaumenfreunde“\, Edenkoben. Selbstverständlich auch mit Zutaten aus dem eigenen Gemüse- und Kräutergarten und Weinen aus der Region. \nVorführung der Lavendeldestillation\, Gewinnung von ätherischem Lavendelöl und Lavendelwasser in einer gläsernen Vorführdestille. Musik mit französischen Chansons. Ein breit gefächertes Angebot von Kunsthandwerk und Naturprodukten an über 30 Ständen. Ausstellerliste bitte hier anklicken => 2018.06.11_Programm-Flyer- Innenseite 23._24.06.2018 \nNähere Informationen: \nÖffnungszeiten:\n23.06.2018 von 10.00-19.00 Uhr\n24.06.2018 von 11.00-18.00 Uhr \nEintritt: 5\,00 Euro \n\nWir freuen uns auf Ihren Besuch.\n(Hunde müssen leider draußen bleiben) \nKostenloser Shuttleservice an den Sonntagen: 24. Juni + 01. Juli 2018  \nDer Fahrplan ist hier hinterlegt bitte anklicken: 2018-06-05 Palatina Bus_Shuttle Fahrplan
URL:https://kraeutergarten-klostermuehle.de/event/lavendellust-23-24-06-2018/
LOCATION:Kräutergarten Klostermühle\, Klosterstraße 171\, Edenkoben\, Rheinland-Pfalz\, 67480\, Deutschland
CATEGORIES:eigene Events
ATTACH;FMTTYPE=image/jpeg:https://kraeutergarten-klostermuehle.de/wp-content/uploads/2018/02/Kraeutergarten-Lavendelfest.jpg
END:VEVENT
END:VCALENDAR