BEGIN:VCALENDAR
VERSION:2.0
PRODID:-//Kräutergarten Klostermühle - ECPv5.14.1//NONSGML v1.0//EN
CALSCALE:GREGORIAN
METHOD:PUBLISH
X-WR-CALNAME:Kräutergarten Klostermühle
X-ORIGINAL-URL:https://kraeutergarten-klostermuehle.de
X-WR-CALDESC:Veranstaltungen für Kräutergarten Klostermühle
BEGIN:VTIMEZONE
TZID:Europe/Berlin
BEGIN:DAYLIGHT
TZOFFSETFROM:+0100
TZOFFSETTO:+0200
TZNAME:CEST
DTSTART:20190331T010000
END:DAYLIGHT
BEGIN:STANDARD
TZOFFSETFROM:+0200
TZOFFSETTO:+0100
TZNAME:CET
DTSTART:20191027T010000
END:STANDARD
END:VTIMEZONE
BEGIN:VEVENT
DTSTART;TZID=Europe/Berlin:20190726T150000
DTEND;TZID=Europe/Berlin:20190726T180000
DTSTAMP:20260420T180752
CREATED:20190405T152310Z
LAST-MODIFIED:20190613T084428Z
UID:2309-1564153200-1564164000@kraeutergarten-klostermuehle.de
SUMMARY:Kulinarischer Kräuterzauber mit Wein und Käse im Kräutergarten Klostermühle  26.07.2019
DESCRIPTION:26.07.2019 – 15:00 -18:00Uhr\n\nKulinarischer Kräuterzauber mit Wein und Käse im Kräutergarten Klostermühle \nNach einem kurzen Spaziergang vorbei an verschiedenen Rebsorten empfängt uns der Kräutergarten mit seinen Düften und Schönheiten. Heil-\, Duft- und Gewürzkräuter\, Obst\, Gemüse und Blühpflanzen lassen uns die Kraft und die Vielfalt der Natur an diesem besonderen Ort erleben – ein Ort\, der die Sinne anspricht und mit seiner Historie zur Besinnung auf das Ursprüngliche anregt. Im Garten zwischen Kräutern und Lavendel sowie in den angrenzenden Weinbergen genießen Sie eine Auswahl kleiner Köstlichkeiten mit korrespondierenden Weinen. Dabei erfahren Sie auch vieles über die Bedeutung und die Zusammenhänge von Kräutern\, Käse\, Brot und Wein vom Mittelalter bis in die Gegenwart. \nDauer: ca. 3 Std. \nKosten: 49 € \nMindestteilnehmer: 8 Personen \nWeitere Termine:  22.08.2019 / 19.09.2019 / 24.10.2019 \nAnmeldungen bei Frau Kolbenschalg direkt ==>info@venninger-kaeseecke.de oder Tel:06323/469003 \n      \n 
URL:https://kraeutergarten-klostermuehle.de/event/kulinarischer-kraeuterzauber-mit-wein-und-kaese-im-kraeutergarten-klostermuehle-24-04-2019/
LOCATION:Kräutergarten Klostermühle\, Klosterstraße 171\, Edenkoben\, Rheinland-Pfalz\, 67480\, Deutschland
CATEGORIES:Events Referenten
ATTACH;FMTTYPE=image/jpeg:https://kraeutergarten-klostermuehle.de/wp-content/uploads/2019/03/Schafskäse-Kolbenschlag.jpg
ORGANIZER;CN="Martina%20Kolbenschlag":MAILTO:info@venninger-kaeseecke.de
END:VEVENT
END:VCALENDAR