BEGIN:VCALENDAR
VERSION:2.0
PRODID:-//Kräutergarten Klostermühle - ECPv5.14.1//NONSGML v1.0//EN
CALSCALE:GREGORIAN
METHOD:PUBLISH
X-WR-CALNAME:Kräutergarten Klostermühle
X-ORIGINAL-URL:https://kraeutergarten-klostermuehle.de
X-WR-CALDESC:Veranstaltungen für Kräutergarten Klostermühle
BEGIN:VTIMEZONE
TZID:Europe/Berlin
BEGIN:DAYLIGHT
TZOFFSETFROM:+0100
TZOFFSETTO:+0200
TZNAME:CEST
DTSTART:20180325T010000
END:DAYLIGHT
BEGIN:STANDARD
TZOFFSETFROM:+0200
TZOFFSETTO:+0100
TZNAME:CET
DTSTART:20181028T010000
END:STANDARD
END:VTIMEZONE
BEGIN:VEVENT
DTSTART;TZID=Europe/Berlin:20180912T170000
DTEND;TZID=Europe/Berlin:20180912T220000
DTSTAMP:20260421T162920
CREATED:20180319T161335Z
LAST-MODIFIED:20180827T092240Z
UID:1987-1536771600-1536789600@kraeutergarten-klostermuehle.de
SUMMARY:Kochkurs 12.09.2018
DESCRIPTION:Kochkurs\n\nSommerfinale\nAxel Jostock\, der mehrfach für seine kreative Küche ausgezeichnete Koch (ehemals „Das neue Fontana“) in Neustadt\, stellt uns für einen weiteren Kochkurs seine breit gefächerten Erfahrungen zur Verfügung und wird uns in die Welt der gesunden Zubereitungen und schonenden Garmethoden mitnehmen.\nIch möchte Euch herzlich einladen\, gemeinsam mit mir ab 17:00 Uhr die bunte Gemüse- und Kräuterwelt im idyllischen Kräutergarten zu genießen. Ihr erfahrt so\, welche Vorteile diese frisch geernteten saisonalen Produkte der eigenen Gewächse durch ihre hervorragende Qualität für Eure Gesundheit und Euer Wohlbefinden haben. Zusätzlich erlebt Ihr dieses unbeschreibliche Gefühl\, diese voll ausgereiften L E B E N S-Mittel zu fühlen\, schmecken und genießen. \nKosten: 98\,– Euro / Person inkl. Aperitif\, Zutaten\, Mineralwasser und Kaffee + optionaler Führung \nIhre Anmeldung nehmen wir gerne entgegen: \ninfo@kraeutergarten-klostermuehle.de oder telefonisch +49 6323 9897798. \n  \n  \n  \n  \n Menü:  \nPaprika Creme brulée mit Salsa Aioli und Brotknusper \n~~~ \nWolfsbarschfilet auf der Haut \nknusprig gebraten auf gegrillter Ratatouille\, Anchoiade \n~~~ \nElsässer Zwetschgentarte mit Lavendeleis
URL:https://kraeutergarten-klostermuehle.de/event/kochkurs-12-09-2018-3/
LOCATION:Kräutergarten Klostermühle\, Klosterstraße 171\, Edenkoben\, Rheinland-Pfalz\, 67480\, Deutschland
CATEGORIES:eigene Events
ATTACH;FMTTYPE=image/jpeg:https://kraeutergarten-klostermuehle.de/wp-content/uploads/2017/10/Mediterraner-Kockurs.jpg
END:VEVENT
END:VCALENDAR