BEGIN:VCALENDAR
VERSION:2.0
PRODID:-//Kräutergarten Klostermühle - ECPv5.14.1//NONSGML v1.0//EN
CALSCALE:GREGORIAN
METHOD:PUBLISH
X-WR-CALNAME:Kräutergarten Klostermühle
X-ORIGINAL-URL:https://kraeutergarten-klostermuehle.de
X-WR-CALDESC:Veranstaltungen für Kräutergarten Klostermühle
BEGIN:VTIMEZONE
TZID:Europe/Berlin
BEGIN:DAYLIGHT
TZOFFSETFROM:+0100
TZOFFSETTO:+0200
TZNAME:CEST
DTSTART:20180325T010000
END:DAYLIGHT
BEGIN:STANDARD
TZOFFSETFROM:+0200
TZOFFSETTO:+0100
TZNAME:CET
DTSTART:20181028T010000
END:STANDARD
END:VTIMEZONE
BEGIN:VEVENT
DTSTART;TZID=Europe/Berlin:20181118T100000
DTEND;TZID=Europe/Berlin:20181118T173000
DTSTAMP:20260421T004113
CREATED:20180713T151553Z
LAST-MODIFIED:20181025T090110Z
UID:1917-1542535200-1542562200@kraeutergarten-klostermuehle.de
SUMMARY:Klangmeditation 18.11.2018
DESCRIPTION:KLANGMEDITATION\n18. November 2018 – 10:00-17:30 Uhr\n(Tee-Empfang ab 9:30 Uhr)\nSeminarleitung: Séverine Grimbert\nBei den Fantasiereisen / Klangmeditationen und beim Mantra-Singen in Verbindung mit Mudras (Finger-Yoga) vereinen sich die harmonischen Klänge von verschiedenen Klangschalen\, Gongs\, Monochord u. a. zu einem einzigartigen Klangteppich\, der zum Innehalten einlädt und in den wohltuenden Raum der inneren Stille führt.\nAnmeldeschluss: 02. November 2018\n(min.10\, max. 14 Teilnehmer)\nGebühren: 75\,00 EUR pro Teilnehmer\nSonntag 10h-12h\, 13h-15h\, 15h30-17h30\nKontakt und Anmeldung: http://www.musik-und-klang.de\n    
URL:https://kraeutergarten-klostermuehle.de/event/klangmeditation-18-november-2018-2/
LOCATION:Kräutergarten Klostermühle\, Klosterstraße 171\, Edenkoben\, Rheinland-Pfalz\, 67480\, Deutschland
CATEGORIES:Events Referenten
ATTACH;FMTTYPE=image/jpeg:https://kraeutergarten-klostermuehle.de/wp-content/uploads/2018/07/Severin-3-Klangschalen-Praxis.jpg
END:VEVENT
END:VCALENDAR