BEGIN:VCALENDAR
VERSION:2.0
PRODID:-//Kräutergarten Klostermühle - ECPv5.14.1//NONSGML v1.0//EN
CALSCALE:GREGORIAN
METHOD:PUBLISH
X-WR-CALNAME:Kräutergarten Klostermühle
X-ORIGINAL-URL:https://kraeutergarten-klostermuehle.de
X-WR-CALDESC:Veranstaltungen für Kräutergarten Klostermühle
BEGIN:VTIMEZONE
TZID:Europe/Berlin
BEGIN:DAYLIGHT
TZOFFSETFROM:+0100
TZOFFSETTO:+0200
TZNAME:CEST
DTSTART:20190331T010000
END:DAYLIGHT
BEGIN:STANDARD
TZOFFSETFROM:+0200
TZOFFSETTO:+0100
TZNAME:CET
DTSTART:20191027T010000
END:STANDARD
END:VTIMEZONE
BEGIN:VEVENT
DTSTART;TZID=Europe/Berlin:20190409T150000
DTEND;TZID=Europe/Berlin:20190409T150000
DTSTAMP:20260420T162759
CREATED:20190315T150843Z
LAST-MODIFIED:20190315T151230Z
UID:2327-1554822000-1554822000@kraeutergarten-klostermuehle.de
SUMMARY:Info-Show Südliche Weinstrasse 09.04.2019
DESCRIPTION:Info-Show Südliche Weinstrasse\nSave the date\nUnsere diesjährige Info-Show findet am Dienstag\, den 9. April 2019 im Kräutergarten Klostermühle Edenkoben statt. \nErfahrt\, was es Neues an der SÜW gibt.  Außerdem wird Niklas Bolenz von der Rheinland-Pfalz Tourismus GmbH Euch über das Thema Servicequalität informieren. \nSpäter erwartet Euch eine spannende Führung durch den Kräutergarten Klostermühle. \nMitten in den Südpfälzer Weinbergen – umgeben von der alten Klostermauer – ist auf dem 6000 Quadratmeter großen Gelände\, \ndas sich um die ehemalige Klostermühle erstreckt\, eine Bio-Gärtnerei mit Gewächshaus und Freilandfläche entstanden mit einer großen Vielfalt von Heilkräutern\, \nDuft- und Gewürzpflanzen sowie alten und neuen Obst- und Gemüsesorten. \nWir laden alle\, die an der Südlichen Weinstraße Gäste willkommen heißen (Vermieter\, Gastronomen\, Winzer\, Gästeführer\, etc.) herzlich dazu ein. \nSüdliche Weinstrasse e.V. \nChristian Bohr \nEmail: c.bohr@suedlicheweinstrasse.de\nTel.: 06341/940 415\nFax.:06341/940 402\nAn der Kreuzmühle 2\n76829 Landau \nBitte melden sie sich bis 31.03.2019 an.   ==> Hier findet Ihr die Einladung und das Anmeldeformular zur Infoshow.\n\n\n\n\n\n\n\n  \n 
URL:https://kraeutergarten-klostermuehle.de/event/info-show-suedliche-weinstrasse-09-04-2019/
LOCATION:Kräutergarten Klostermühle\, Klosterstraße 171\, Edenkoben\, Rheinland-Pfalz\, 67480\, Deutschland
CATEGORIES:Events Referenten
ATTACH;FMTTYPE=image/png:https://kraeutergarten-klostermuehle.de/wp-content/uploads/2019/03/SÜW-Image-Foto-Copy-e1552656150822.png
END:VEVENT
END:VCALENDAR