BEGIN:VCALENDAR
VERSION:2.0
PRODID:-//Kräutergarten Klostermühle - ECPv5.14.1//NONSGML v1.0//EN
CALSCALE:GREGORIAN
METHOD:PUBLISH
X-WR-CALNAME:Kräutergarten Klostermühle
X-ORIGINAL-URL:https://kraeutergarten-klostermuehle.de
X-WR-CALDESC:Veranstaltungen für Kräutergarten Klostermühle
BEGIN:VTIMEZONE
TZID:Europe/Berlin
BEGIN:DAYLIGHT
TZOFFSETFROM:+0100
TZOFFSETTO:+0200
TZNAME:CEST
DTSTART:20180325T010000
END:DAYLIGHT
BEGIN:STANDARD
TZOFFSETFROM:+0200
TZOFFSETTO:+0100
TZNAME:CET
DTSTART:20181028T010000
END:STANDARD
END:VTIMEZONE
BEGIN:VEVENT
DTSTART;VALUE=DATE:20180414
DTEND;VALUE=DATE:20180417
DTSTAMP:20260422T101627
CREATED:20180326T152829Z
LAST-MODIFIED:20180326T153137Z
UID:1678-1523692800-1523865599@kraeutergarten-klostermuehle.de
SUMMARY:Edenkobener Garten- und Pflanzenmarkt 14.04.-15.04.2018
DESCRIPTION:Edenkobener Garten- und Pflanzenmarkt\n„Frühlingserwachen“\n14.04.2018-So.15.04.2018\nSamstag 10-18-Sonntag 11-18 \nWir laden Sie herzlich ein zum Edenkobener Garten- und Pflanzenmarkt „Frühlingserwachen“ am 14.04.-15.04.2018. \nUnser Stand mit unseren selbsthergestellten Produkten\, Lavendelpflanzen und Kräutertöpfen wird am Ludwigsplatz sein. \nWir freuen uns auf Ihr kommen. Für weitere Informationen und die Austellerliste entnehmen Sie bitte dem Flyer hier. \n 
URL:https://kraeutergarten-klostermuehle.de/event/edenkobener-garten-und-pflanzenmarkt/
LOCATION:Stadt Edenkoben\, Weinstraße 86\, Edenkoben\, 67480
CATEGORIES:eigene Events
ATTACH;FMTTYPE=image/jpeg:https://kraeutergarten-klostermuehle.de/wp-content/uploads/2018/03/Standfoto-für-Gartenmarkt-Edenkoben.jpg
END:VEVENT
END:VCALENDAR