BEGIN:VCALENDAR
VERSION:2.0
PRODID:-//Kräutergarten Klostermühle - ECPv5.14.1//NONSGML v1.0//EN
CALSCALE:GREGORIAN
METHOD:PUBLISH
X-WR-CALNAME:Kräutergarten Klostermühle
X-ORIGINAL-URL:https://kraeutergarten-klostermuehle.de
X-WR-CALDESC:Veranstaltungen für Kräutergarten Klostermühle
BEGIN:VTIMEZONE
TZID:Europe/Berlin
BEGIN:DAYLIGHT
TZOFFSETFROM:+0100
TZOFFSETTO:+0200
TZNAME:CEST
DTSTART:20190331T010000
END:DAYLIGHT
BEGIN:STANDARD
TZOFFSETFROM:+0200
TZOFFSETTO:+0100
TZNAME:CET
DTSTART:20191027T010000
END:STANDARD
END:VTIMEZONE
BEGIN:VEVENT
DTSTART;TZID=Europe/Berlin:20190814T170000
DTEND;TZID=Europe/Berlin:20190814T200000
DTSTAMP:20260420T211131
CREATED:20180713T161856Z
LAST-MODIFIED:20190722T132853Z
UID:2425-1565802000-1565812800@kraeutergarten-klostermuehle.de
SUMMARY:Der Würzwisch 14.08.2019
DESCRIPTION:Der Würzwisch\n14. August 2019\, 17 bis 20 Uhr\nMit dem zunehmenden Interesse an den natürlichen Heilkräften der Pflanzen findet der überlieferte Brauch der Kräutersegnung wieder vermehrt Beachtung.\nAlte Schriften verzeichnen 77 Pflanzenarten\, die in einen Würzwisch gehören.\nIm Zentrum des Würzwisch´s sollte eine Königskerze stehen. Wer eine (oder auch mehrere) mitbringen kann – darf ruhig auch schon getrocknet sein\, wird mit einem herzlichen Dankeschön belohnt.\nDaneben finden Pflanzen\, wie Johanniskraut\,  Pfefferminz\, Quendel\, Wermut\, Salbei\, Schafgarbe\, Wilde Möhre\, Odermennig\, Goldrute\, Malve\, Melisse\, Blutwurz\, Frauenmantel\, Estragon\, Boretsch\, Liebstöckel\, Lavendel\, Eibisch\, Rosmarin\, Ysop Verwendung.\nDas ist nur eine Auswahl der genutzten Blumen und Kräuter\, aber sie zeigt\, dass die Pflanzen weder dornig noch giftig sein dürfen.\nJutta Grünenwald wird die Heilwirkung der jeweiligen Pflanzen erklären und über die Tradition des Würzwisches erzählen\n  \nIm Preis von 25 Euro pro Person sind sämtliche Zutaten für einen prächtigen Würzwisch\, Wasser\, Tee und kleine Kräuterfrischkäsehäppchen\, die die Teilnehmenden  selbst liebevoll mit Kräutern und Blüten dekorieren werden\, enthalten.\n\nVerbindliche Anmeldung bitte bis Montag\, 12. August 2019.\nBitte Schere und Korb mitbringen.\nTel. 06323/989 77 98\, info@kraeutergarten-klostermuehle.de\n  \n 
URL:https://kraeutergarten-klostermuehle.de/event/der-wuerzwisch-14-08-2019-2/
LOCATION:Kräutergarten Klostermühle\, Klosterstraße 171\, Edenkoben\, Rheinland-Pfalz\, 67480\, Deutschland
CATEGORIES:Events Referenten
ATTACH;FMTTYPE=image/jpeg:https://kraeutergarten-klostermuehle.de/wp-content/uploads/2018/07/Würzwisch_1.jpg
END:VEVENT
END:VCALENDAR