BEGIN:VCALENDAR
VERSION:2.0
PRODID:-//Kräutergarten Klostermühle - ECPv5.14.1//NONSGML v1.0//EN
CALSCALE:GREGORIAN
METHOD:PUBLISH
X-WR-CALNAME:Kräutergarten Klostermühle
X-ORIGINAL-URL:https://kraeutergarten-klostermuehle.de
X-WR-CALDESC:Veranstaltungen für Kräutergarten Klostermühle
BEGIN:VTIMEZONE
TZID:Europe/Berlin
BEGIN:DAYLIGHT
TZOFFSETFROM:+0100
TZOFFSETTO:+0200
TZNAME:CEST
DTSTART:20180325T010000
END:DAYLIGHT
BEGIN:STANDARD
TZOFFSETFROM:+0200
TZOFFSETTO:+0100
TZNAME:CET
DTSTART:20181028T010000
END:STANDARD
END:VTIMEZONE
BEGIN:VEVENT
DTSTART;VALUE=DATE:20181208
DTEND;VALUE=DATE:20181211
DTSTAMP:20260420T211034
CREATED:20181011T092818Z
LAST-MODIFIED:20181119T160019Z
UID:2132-1544256000-1544428799@kraeutergarten-klostermuehle.de
SUMMARY:Adventsmarkt im Kräutergarten 08.12.-09.12.2018
DESCRIPTION:  \nAdventsmarkt im Kräutergarten Klostermühle\nSa. 08.12. + So. 09.12.2018 (Sa. 11-20 Uhr So. 11-20 Uhr)\n\nSa. 15.12. + So. 16.12.2018 (Sa. 11-20 Uhr So. 11-20 Uhr)\n  \nUnser Kräutergarten Klostermühle lädt Sie zur besinnlichen Adventszeit an zwei Wochenenden zum ersten Mal zu einem erlebnisreichen Weihnachtsmarkt ein. Mit Liebe geschmückte kunsthandwerkliche Stände und viele Leckereien verwöhnen Ihren Gaumen. Auch wärmende Speisen aus der Kräuterküche mit Kräutern und Wintergemüse aus unserem Garten werden wir für unsere Gäste zubereiten und für Ihr leibliches Wohl sorgen.\nMit Lebkuchenduft\, Lichterglanz\, Klangmeditation mit Klangschalen und Räuchern mit Duftkräutern aus dem Garten\, werden wir Sie in eine vorweihnachtliche stimmungsvolle Atmosphäre entführen.\nDie musikalische Umrahmung mit adventlichen Weihnachtsklängen gesungen und live gespielt auf Instrumenten und eine Märchenerzählerin für Groß und Klein tragen zur besinnlichen Stimmung an diesen Wochenenden bei. Wir freuen uns auf Ihren Besuch.
URL:https://kraeutergarten-klostermuehle.de/event/adventsmarkt-im-kraeutergarten-klostermuehle-08-12-2018-09-12-2018/
LOCATION:Kräutergarten Klostermühle\, Klosterstraße 171\, Edenkoben\, Rheinland-Pfalz\, 67480\, Deutschland
CATEGORIES:eigene Events
ATTACH;FMTTYPE=image/jpeg:https://kraeutergarten-klostermuehle.de/wp-content/uploads/2018/10/Adventsmarkt-Plakat-A3.jpg
ORGANIZER;CN="Kr%C3%A4utergarten%20Klosterm%C3%BChle":MAILTO:info@kraeutergarten-klostermuehle.de
END:VEVENT
END:VCALENDAR